BEGIN:VCALENDAR
PRODID:-//AT Content Types//AT Event//EN
VERSION:2.0
METHOD:PUBLISH
BEGIN:VEVENT
DTSTAMP:20180125T041440Z
CREATED:20150630T052635Z
UID:ATEvent-3552cb330b83e4c3ad2c095ab31d4160
LAST-MODIFIED:20150630T052635Z
SUMMARY:Information session
DTSTART:20150715T053000Z
DTEND:20150715T073000Z
DESCRIPTION:You can learn more about the plan and funding guidelines a
 t a drop-in information session at\: ArtsPost \n1 Grantham Street\, So
 uth end of Victoria Street\, Hamilton.\nThere will be a short presenta
 tion on the plan and guidelines at 6pm.
CLASS:PUBLIC
END:VEVENT
END:VCALENDAR
